BEGIN:VCALENDAR
PRODID:-//eluceo/ical//2.0/EN
VERSION:2.0
CALSCALE:GREGORIAN
BEGIN:VEVENT
UID:event-149
DTSTAMP:20260426T014101Z
SUMMARY:Frisse Blikken Training
DESCRIPTION:Frisse Blikken Training Do you want to connect with your entrep
 reneurial spark? On October 9\, Frisse Blikken will provide us with a trai
 ning called "Connecting The Dots!"  By constantly associationg with your 
 first ideas\, you will connect with your own Entrepeneurial spark! Do you 
 want to generate the most creative ideas in a very fun and innovative way\
 , then this training is made for you! The training will take place on Oct
 ober 9\, and will last from 18.45h until 21.00h  The location is CubeZ 
 21. This training will be free to join for everybody! We hope to see you
  there!
DTSTART:20231009T164500Z
DTEND:20231009T190000Z
END:VEVENT
BEGIN:VTIMEZONE
TZID:UTC
BEGIN:STANDARD
DTSTART:20231009T164500
TZNAME:UTC
TZOFFSETTO:+0000
TZOFFSETFROM:+0000
END:STANDARD
END:VTIMEZONE
END:VCALENDAR
