BEGIN:VCALENDAR
PRODID:-//eluceo/ical//2.0/EN
VERSION:2.0
CALSCALE:GREGORIAN
BEGIN:VEVENT
UID:event-1211
DTSTAMP:20260423T175824Z
SUMMARY:VSL Activity: Sunset Boat Tour
DESCRIPTION:Dear members\, former members\, skippers and sweethearts\, Soon
  the VSL Sunset Boat Tour will be on the agenda again! During this event\,
  we will casually cruise through the inland waterways of Den Bosch. Don’
 t forget to wear your best outfit so you’ll look your absolute best duri
 ng golden hour. For those who want\, there will be the option to enjoy som
 e drinks at the pub afterwards\, possibly funded by the last remaining bud
 get on the blue debit card. Here are the final details: Location: Sint Jan
 ssingel 25\, Den Bosch (Zoete Lieve Gerrit dock) Date: Friday\, May 22 Tim
 e: 19:15 gathering – 19:30 departure Fee: €12\,50 Ahoy!
DTSTART:20260522T171500Z
DTEND:20260522T200000Z
END:VEVENT
BEGIN:VTIMEZONE
TZID:UTC
BEGIN:STANDARD
DTSTART:20260522T171500
TZNAME:UTC
TZOFFSETTO:+0000
TZOFFSETFROM:+0000
END:STANDARD
END:VTIMEZONE
END:VCALENDAR
