BEGIN:VCALENDAR
PRODID:-//eluceo/ical//2.0/EN
VERSION:2.0
CALSCALE:GREGORIAN
BEGIN:VEVENT
UID:event-1210
DTSTAMP:20260423T164706Z
SUMMARY:DoMiBo 5 (Summer Summit)
DESCRIPTION:It’s already going to be the last DoMiBo of this year ☹ but
  we will make it worthwhile. We are hoping for good weather this Thursday 
 as we would like to host it in the park. Bring your friends\, some good vi
 bes and we will provide the drinks and games. We’ll look back on our rec
 ent CityTrip and can hear all about everybody’s summer plans. Bring some
  sunglasses and\, if you could\, some sun please! Location: Spoorpark Date
 : May 7 Time: 17:00 Fee: €5
DTSTART:20260507T150000Z
DTEND:20260507T203000Z
END:VEVENT
BEGIN:VTIMEZONE
TZID:UTC
BEGIN:STANDARD
DTSTART:20260507T150000
TZNAME:UTC
TZOFFSETTO:+0000
TZOFFSETFROM:+0000
END:STANDARD
END:VTIMEZONE
END:VCALENDAR
