BEGIN:VCALENDAR
PRODID:-//eluceo/ical//2.0/EN
VERSION:2.0
CALSCALE:GREGORIAN
BEGIN:VEVENT
UID:event-1209
DTSTAMP:20260423T164706Z
SUMMARY:Start-up Dinner
DESCRIPTION:Join us for an inspiring evening where you’ll hear firsthand 
 stories from some of the country’s most accomplished entrepreneurs. Exch
 ange ideas\, discuss challenges\, and connect with like-minded professiona
 ls in an open and engaging setting. The program features an impressive lin
 eup of speakers: Berend Bouwmeester (Bold &amp\; Beyond)\, Bram Delisse (D
 embrane)\, Peter Rutten (Bald Brewer)\, John van Haren (Modularis) and Sve
 n Cooler (Cooler Media) who will each share their experiences and insight
 s. All of this unfolds over a carefully curated dinner at one of Tilburg
 ’s finest restaurants\, creating the perfect atmosphere for both learnin
 g and meaningful connections. Location: De Commanderie Date: May 12 Time: 
 17:30 - 22:00 Fee: 3 euros for members | 5 euros for non-members
DTSTART:20260512T153000Z
DTEND:20260512T200000Z
END:VEVENT
BEGIN:VTIMEZONE
TZID:UTC
BEGIN:STANDARD
DTSTART:20260512T153000
TZNAME:UTC
TZOFFSETTO:+0000
TZOFFSETFROM:+0000
END:STANDARD
END:VTIMEZONE
END:VCALENDAR
