BEGIN:VCALENDAR
PRODID:-//eluceo/ical//2.0/EN
VERSION:2.0
CALSCALE:GREGORIAN
BEGIN:VEVENT
UID:event-1168
DTSTAMP:20260423T170243Z
SUMMARY:Strategic Speeddating
DESCRIPTION:Do you want to get a taste of some prominent companies operatin
 g in the field of Strategic Management? The Strategic Speeddating Event ma
 y be exactly what you are looking for! The evening will commence with smal
 l pitches provided by every company whereafter the speeddating starts. Dur
 ing these short speeddates\, you and a fellow student will meet the compan
 ies one by one. This allows for engaging conversations in which you can ge
 t familiar with company operations or discuss job opportunities and thesis
  internships. After the last round\, all students and company representati
 ves will come together for a network drink. Participating companies: iTrai
 nee\, Delaware\, Cape\, more to be announced. Location: De Philharmonie\, 
 Tilburg (Oude Goirleseweg 167) Date: April 28\, 2026 Time: 18:30 - 22:30 F
 ee: €3 for members. €5 for non-members Be aware that this is a formal 
 event\, the dress code is business casual. Registration is first-come\, fi
 rst-served!
DTSTART:20260428T163000Z
DTEND:20260428T203000Z
END:VEVENT
BEGIN:VTIMEZONE
TZID:UTC
BEGIN:STANDARD
DTSTART:20260428T163000
TZNAME:UTC
TZOFFSETTO:+0000
TZOFFSETFROM:+0000
END:STANDARD
END:VTIMEZONE
END:VCALENDAR
